BEGIN:VCALENDAR
VERSION:2.0
PRODID:-//wp-events-plugin.com//5.99912//EN
TZID:Europe/Paris
X-WR-TIMEZONE:Europe/Paris
BEGIN:VEVENT
UID:0-559@paysdelourcq.fr
DTSTART;TZID=Europe/Paris:20260506T090000
DTEND;TZID=Europe/Paris:20260506T160000
DTSTAMP:20260408T151816Z
URL:https://www.paysdelourcq.fr/evenements/impots-on-vous-accompagne/
SUMMARY:Impôts : on vous accompagne !
DESCRIPTION:Formulaires à remplir\, cases à ne pas oublier\, règles fisc
 ales… Chaque année\, la déclaration de revenus\, c'est l'étape obliga
 toire ! Elle peut être compliquée et source d'erreurs.\nUne journée pou
 r vous aider sur RDV\nVous êtes particulier et vous rencontrez des diffic
 ultés pour remplir votre feuille d’imposition ? Vous souhaitez obtenir 
 des renseignements pour déclarer vos revenus ?\nLes professionnels prése
 nts proposent un accompagnement adapté à votre situation en suivant les 
 différentes étapes de votre déclaration. Ils répondront à vos questio
 ns et compléteront votre dossier.
ATTACH;FMTTYPE=image/jpeg:https://www.paysdelourcq.fr/app/uploads/2026/04/
 impots.jpg
CATEGORIES:France services
LOCATION:Pyramide Jean DIDIER &#8211; Mary-sur-Marne\, 6 bis, Route de La F
 erté-sous-Jouarre 77440 Mary-sur-Marne\, France
X-APPLE-STRUCTURED-LOCATION;VALUE=URI;X-ADDRESS=6 bis, Route de La Ferté-s
 ous-Jouarre 77440 Mary-sur-Marne\, France;X-APPLE-RADIUS=100;X-TITLE=Pyram
 ide Jean DIDIER – Mary-sur-Marne:geo:0,0
END:VEVENT
BEGIN:VTIMEZONE
TZID:Europe/Paris
X-LIC-LOCATION:Europe/Paris
BEGIN:DAYLIGHT
DTSTART:20260329T030000
TZOFFSETFROM:+0100
TZOFFSETTO:+0200
TZNAME:CEST
END:DAYLIGHT
END:VTIMEZONE
END:VCALENDAR